Package: CellBench Version: 1.27.0 Command: /Library/Frameworks/R.framework/Resources/bin/R CMD build --keep-empty-dirs --no-resave-data CellBench StartedAt: 2025-11-12 15:56:30 -0500 (Wed, 12 Nov 2025) EndedAt: 2025-11-12 15:56:54 -0500 (Wed, 12 Nov 2025) EllapsedTime: 24.3 seconds RetCode: 0 Status: OK PackageFile: CellBench_1.27.0.tar.gz PackageFileSize: 3.018 MiB