Package: CellBench Version: 1.27.0 Maintainer: Shian Su MaintainerEmail: su.s at wehi.edu.au git_url: https://git.bioconductor.org/packages/CellBench git_branch: devel git_last_commit: ecbe643 git_last_commit_date: 2025-10-29 10:50:23 -0500 (Wed, 29 Oct 2025)