Package: CellBarcode Version: 1.17.0 Command: /home/biocbuild/bbs-3.23-bioc/R/bin/R CMD INSTALL CellBarcode StartedAt: 2025-11-11 15:56:18 -0500 (Tue, 11 Nov 2025) EndedAt: 2025-11-11 15:57:18 -0500 (Tue, 11 Nov 2025) EllapsedTime: 60.6 seconds RetCode: 0 Status: OK