Package: CellBarcode Version: 1.17.0 Command: /home/biocbuild/bbs-3.23-bioc/R/bin/R CMD build --keep-empty-dirs --no-resave-data CellBarcode StartedAt: 2025-11-11 16:44:07 -0500 (Tue, 11 Nov 2025) EndedAt: 2025-11-11 16:45:42 -0500 (Tue, 11 Nov 2025) EllapsedTime: 95.1 seconds RetCode: 0 Status: OK PackageFile: CellBarcode_1.17.0.tar.gz PackageFileSize: 3.174 MiB