Package: CellBarcode Version: 1.17.0 Command: /Library/Frameworks/R.framework/Resources/bin/R CMD INSTALL CellBarcode StartedAt: 2025-11-13 15:29:23 -0500 (Thu, 13 Nov 2025) EndedAt: 2025-11-13 15:29:43 -0500 (Thu, 13 Nov 2025) EllapsedTime: 19.9 seconds RetCode: 0 Status: OK