Package: CellBarcode Version: 1.17.0 Command: /Library/Frameworks/R.framework/Resources/bin/R CMD build --keep-empty-dirs --no-resave-data CellBarcode StartedAt: 2025-11-13 15:53:50 -0500 (Thu, 13 Nov 2025) EndedAt: 2025-11-13 15:54:24 -0500 (Thu, 13 Nov 2025) EllapsedTime: 34.4 seconds RetCode: 0 Status: OK PackageFile: CellBarcode_1.17.0.tar.gz PackageFileSize: 3.162 MiB