Package: CellBarcode Version: 1.17.0 Command: rm -rf CellBarcode.buildbin-libdir && mkdir CellBarcode.buildbin-libdir && /Users/biocbuild/BBS/utils/build-universal.sh CellBarcode_1.17.0.tar.gz /Library/Frameworks/R.framework/Resources/bin/R CellBarcode.buildbin-libdir StartedAt: 2025-11-13 23:30:45 -0500 (Thu, 13 Nov 2025) EndedAt: 2025-11-13 23:31:11 -0500 (Thu, 13 Nov 2025) EllapsedTime: 25.6 seconds RetCode: 0 Status: OK PackageFile: CellBarcode_1.17.0.tgz PackageFileSize: 3.679 MiB