Package: CellBarcode Version: 1.17.0 Maintainer: Wenjie Sun MaintainerEmail: sunwjie at gmail.com git_url: https://git.bioconductor.org/packages/CellBarcode git_branch: devel git_last_commit: bc09e4a git_last_commit_date: 2025-10-29 11:13:43 -0500 (Wed, 29 Oct 2025)