Package: CeTF Version: 1.23.0 Command: /home/biocbuild/bbs-3.23-bioc/R/bin/R CMD INSTALL CeTF StartedAt: 2025-11-13 15:47:28 -0500 (Thu, 13 Nov 2025) EndedAt: 2025-11-13 15:48:27 -0500 (Thu, 13 Nov 2025) EllapsedTime: 59.0 seconds RetCode: 0 Status: OK