Package: CeTF Version: 1.23.0 Command: /home/biocbuild/bbs-3.23-bioc/R/bin/R CMD build --keep-empty-dirs --no-resave-data CeTF StartedAt: 2025-11-14 16:44:12 -0500 (Fri, 14 Nov 2025) EndedAt: 2025-11-14 16:46:56 -0500 (Fri, 14 Nov 2025) EllapsedTime: 164.2 seconds RetCode: 0 Status: OK PackageFile: CeTF_1.23.0.tar.gz PackageFileSize: 3.834 MiB