Package: CeTF Version: 1.23.0 Command: /Library/Frameworks/R.framework/Resources/bin/R CMD INSTALL CeTF StartedAt: 2025-11-14 15:24:49 -0500 (Fri, 14 Nov 2025) EndedAt: 2025-11-14 15:25:10 -0500 (Fri, 14 Nov 2025) EllapsedTime: 21.1 seconds RetCode: 0 Status: OK