Package: CeTF Version: 1.23.0 Command: /Library/Frameworks/R.framework/Resources/bin/R CMD build --keep-empty-dirs --no-resave-data CeTF StartedAt: 2025-11-14 15:52:02 -0500 (Fri, 14 Nov 2025) EndedAt: 2025-11-14 15:53:16 -0500 (Fri, 14 Nov 2025) EllapsedTime: 73.8 seconds RetCode: 0 Status: OK PackageFile: CeTF_1.23.0.tar.gz PackageFileSize: 4.154 MiB