Package: CeTF Version: 1.23.0 Command: rm -rf CeTF.buildbin-libdir && mkdir CeTF.buildbin-libdir && /Users/biocbuild/BBS/utils/build-universal.sh CeTF_1.23.0.tar.gz /Library/Frameworks/R.framework/Resources/bin/R CeTF.buildbin-libdir StartedAt: 2025-11-14 23:26:05 -0500 (Fri, 14 Nov 2025) EndedAt: 2025-11-14 23:26:31 -0500 (Fri, 14 Nov 2025) EllapsedTime: 26.5 seconds RetCode: 0 Status: OK PackageFile: CeTF_1.23.0.tgz PackageFileSize: 4.247 MiB