Package: CeTF Version: 1.23.0 Maintainer: Carlos Alberto Oliveira de Biagi Junior MaintainerEmail: cbiagijr at gmail.com git_url: https://git.bioconductor.org/packages/CeTF git_branch: devel git_last_commit: d8786fc git_last_commit_date: 2025-10-29 10:56:07 -0500 (Wed, 29 Oct 2025)