Package: CausalR Version: 1.43.0 Command: /home/biocbuild/bbs-3.23-bioc/R/bin/R CMD INSTALL CausalR StartedAt: 2025-11-14 15:06:20 -0500 (Fri, 14 Nov 2025) EndedAt: 2025-11-14 15:06:27 -0500 (Fri, 14 Nov 2025) EllapsedTime: 7.4 seconds RetCode: 0 Status: OK