Package: CausalR Version: 1.43.0 Command: /home/biocbuild/bbs-3.23-bioc/R/bin/R CMD build --keep-empty-dirs --no-resave-data CausalR StartedAt: 2025-11-14 16:38:38 -0500 (Fri, 14 Nov 2025) EndedAt: 2025-11-14 16:38:55 -0500 (Fri, 14 Nov 2025) EllapsedTime: 17.0 seconds RetCode: 0 Status: OK PackageFile: CausalR_1.43.0.tar.gz PackageFileSize: 574 KiB