Package: CausalR Version: 1.43.0 Command: /Library/Frameworks/R.framework/Resources/bin/R CMD INSTALL CausalR StartedAt: 2025-11-13 15:03:15 -0500 (Thu, 13 Nov 2025) EndedAt: 2025-11-13 15:03:19 -0500 (Thu, 13 Nov 2025) EllapsedTime: 4.5 seconds RetCode: 0 Status: OK