Package: CausalR Version: 1.43.0 Command: rm -rf CausalR.buildbin-libdir && mkdir CausalR.buildbin-libdir && /Users/biocbuild/BBS/utils/build-universal.sh CausalR_1.43.0.tar.gz /Library/Frameworks/R.framework/Resources/bin/R CausalR.buildbin-libdir StartedAt: 2025-11-12 20:52:59 -0500 (Wed, 12 Nov 2025) EndedAt: 2025-11-12 20:53:03 -0500 (Wed, 12 Nov 2025) EllapsedTime: 3.0 seconds RetCode: 0 Status: OK PackageFile: CausalR_1.43.0.tgz PackageFileSize: 646.8 KiB