Package: CatsCradle Version: 1.5.1 Command: /Library/Frameworks/R.framework/Resources/bin/R CMD build --keep-empty-dirs --no-resave-data CatsCradle StartedAt: 2025-11-16 15:49:39 -0500 (Sun, 16 Nov 2025) EndedAt: 2025-11-16 15:52:46 -0500 (Sun, 16 Nov 2025) EllapsedTime: 187.1 seconds RetCode: 0 Status: OK PackageFile: CatsCradle_1.5.1.tar.gz PackageFileSize: 9.227 MiB