Package: CatsCradle Version: 1.5.1 Command: rm -rf CatsCradle.buildbin-libdir && mkdir CatsCradle.buildbin-libdir && /Users/biocbuild/BBS/utils/build-universal.sh CatsCradle_1.5.1.tar.gz /Library/Frameworks/R.framework/Resources/bin/R CatsCradle.buildbin-libdir StartedAt: 2025-11-18 23:33:45 -0500 (Tue, 18 Nov 2025) EndedAt: 2025-11-18 23:34:05 -0500 (Tue, 18 Nov 2025) EllapsedTime: 20.5 seconds RetCode: 0 Status: OK PackageFile: CatsCradle_1.5.1.tgz PackageFileSize: 9.265 MiB