Package: CardinalIO Version: 1.9.0 Command: /home/biocbuild/bbs-3.23-bioc/R/bin/R CMD INSTALL CardinalIO StartedAt: 2025-11-13 15:12:33 -0500 (Thu, 13 Nov 2025) EndedAt: 2025-11-13 15:12:49 -0500 (Thu, 13 Nov 2025) EllapsedTime: 16.5 seconds RetCode: 0 Status: OK