Package: CardinalIO Version: 1.9.0 Command: /home/biocbuild/bbs-3.23-bioc/R/bin/R CMD build --keep-empty-dirs --no-resave-data CardinalIO StartedAt: 2025-11-13 16:37:27 -0500 (Thu, 13 Nov 2025) EndedAt: 2025-11-13 16:37:52 -0500 (Thu, 13 Nov 2025) EllapsedTime: 25.0 seconds RetCode: 0 Status: OK PackageFile: CardinalIO_1.9.0.tar.gz PackageFileSize: 1015 KiB