Package: CardinalIO Version: 1.9.0 Command: /Library/Frameworks/R.framework/Resources/bin/R CMD INSTALL CardinalIO StartedAt: 2025-11-12 15:21:42 -0500 (Wed, 12 Nov 2025) EndedAt: 2025-11-12 15:21:49 -0500 (Wed, 12 Nov 2025) EllapsedTime: 6.5 seconds RetCode: 0 Status: OK