Package: CardinalIO Version: 1.9.0 Command: /Library/Frameworks/R.framework/Resources/bin/R CMD build --keep-empty-dirs --no-resave-data CardinalIO StartedAt: 2025-11-12 15:55:42 -0500 (Wed, 12 Nov 2025) EndedAt: 2025-11-12 15:55:52 -0500 (Wed, 12 Nov 2025) EllapsedTime: 10.1 seconds RetCode: 0 Status: OK PackageFile: CardinalIO_1.9.0.tar.gz PackageFileSize: 968.5 KiB