Package: CardinalIO Version: 1.9.0 Command: rm -rf CardinalIO.buildbin-libdir && mkdir CardinalIO.buildbin-libdir && /Users/biocbuild/BBS/utils/build-universal.sh CardinalIO_1.9.0.tar.gz /Library/Frameworks/R.framework/Resources/bin/R CardinalIO.buildbin-libdir StartedAt: 2025-11-12 20:52:51 -0500 (Wed, 12 Nov 2025) EndedAt: 2025-11-12 20:52:59 -0500 (Wed, 12 Nov 2025) EllapsedTime: 8.1 seconds RetCode: 0 Status: OK PackageFile: CardinalIO_1.9.0.tgz PackageFileSize: 1.246 MiB