Package: CardinalIO Version: 1.9.0 Maintainer: Kylie Ariel Bemis MaintainerEmail: k.bemis at northeastern.edu git_url: https://git.bioconductor.org/packages/CardinalIO git_branch: devel git_last_commit: 59b71c2 git_last_commit_date: 2025-10-29 11:24:36 -0500 (Wed, 29 Oct 2025)