Package: Cardinal Version: 3.13.0 Command: /Library/Frameworks/R.framework/Resources/bin/R CMD INSTALL Cardinal StartedAt: 2025-11-13 15:07:18 -0500 (Thu, 13 Nov 2025) EndedAt: 2025-11-13 15:07:28 -0500 (Thu, 13 Nov 2025) EllapsedTime: 9.8 seconds RetCode: 0 Status: OK