Package: Cardinal Version: 3.13.0 Command: /Library/Frameworks/R.framework/Resources/bin/R CMD build --keep-empty-dirs --no-resave-data Cardinal StartedAt: 2025-11-12 15:55:39 -0500 (Wed, 12 Nov 2025) EndedAt: 2025-11-12 15:58:06 -0500 (Wed, 12 Nov 2025) EllapsedTime: 147.7 seconds RetCode: 0 Status: OK PackageFile: Cardinal_3.13.0.tar.gz PackageFileSize: 5.155 MiB