Package: Cardinal Version: 3.13.0 Command: rm -rf Cardinal.buildbin-libdir && mkdir Cardinal.buildbin-libdir && /Users/biocbuild/BBS/utils/build-universal.sh Cardinal_3.13.0.tar.gz /Library/Frameworks/R.framework/Resources/bin/R Cardinal.buildbin-libdir StartedAt: 2025-11-12 20:52:51 -0500 (Wed, 12 Nov 2025) EndedAt: 2025-11-12 20:53:03 -0500 (Wed, 12 Nov 2025) EllapsedTime: 11.2 seconds RetCode: 0 Status: OK PackageFile: Cardinal_3.13.0.tgz PackageFileSize: 6.663 MiB