Package: CalibraCurve Version: 1.1.1 Command: /Library/Frameworks/R.framework/Resources/bin/R CMD INSTALL CalibraCurve StartedAt: 2025-11-14 15:20:10 -0500 (Fri, 14 Nov 2025) EndedAt: 2025-11-14 15:20:19 -0500 (Fri, 14 Nov 2025) EllapsedTime: 9.2 seconds RetCode: 0 Status: OK