Package: CalibraCurve Version: 1.1.1 Command: /Library/Frameworks/R.framework/Resources/bin/R CMD build --keep-empty-dirs --no-resave-data CalibraCurve StartedAt: 2025-11-14 15:48:54 -0500 (Fri, 14 Nov 2025) EndedAt: 2025-11-14 15:49:20 -0500 (Fri, 14 Nov 2025) EllapsedTime: 25.3 seconds RetCode: 0 Status: OK PackageFile: CalibraCurve_1.1.1.tar.gz PackageFileSize: 2.139 MiB