Package: CaMutQC Version: 1.7.0 Command: /home/biocbuild/bbs-3.23-bioc/R/bin/R CMD INSTALL CaMutQC StartedAt: 2025-11-11 15:51:32 -0500 (Tue, 11 Nov 2025) EndedAt: 2025-11-11 15:52:02 -0500 (Tue, 11 Nov 2025) EllapsedTime: 29.9 seconds RetCode: 0 Status: OK