Package: CaMutQC Version: 1.7.0 Command: /home/biocbuild/bbs-3.23-bioc/R/bin/R CMD build --keep-empty-dirs --no-resave-data CaMutQC StartedAt: 2025-11-13 16:36:46 -0500 (Thu, 13 Nov 2025) EndedAt: 2025-11-13 16:37:56 -0500 (Thu, 13 Nov 2025) EllapsedTime: 70.1 seconds RetCode: 0 Status: OK PackageFile: CaMutQC_1.7.0.tar.gz PackageFileSize: 5.311 MiB