Package: CaMutQC Version: 1.7.0 Command: /Library/Frameworks/R.framework/Resources/bin/R CMD build --keep-empty-dirs --no-resave-data CaMutQC StartedAt: 2025-11-13 15:52:24 -0500 (Thu, 13 Nov 2025) EndedAt: 2025-11-13 15:52:51 -0500 (Thu, 13 Nov 2025) EllapsedTime: 27.3 seconds RetCode: 0 Status: OK PackageFile: CaMutQC_1.7.0.tar.gz PackageFileSize: 5.311 MiB