Package: CaMutQC Version: 1.7.0 Command: rm -rf CaMutQC.buildbin-libdir && mkdir CaMutQC.buildbin-libdir && /Users/biocbuild/BBS/utils/build-universal.sh CaMutQC_1.7.0.tar.gz /Library/Frameworks/R.framework/Resources/bin/R CaMutQC.buildbin-libdir StartedAt: 2025-11-13 23:30:18 -0500 (Thu, 13 Nov 2025) EndedAt: 2025-11-13 23:30:33 -0500 (Thu, 13 Nov 2025) EllapsedTime: 15.3 seconds RetCode: 0 Status: OK PackageFile: CaMutQC_1.7.0.tgz PackageFileSize: 4.585 MiB