Package: CaMutQC Version: 1.7.0 Maintainer: Xin Wang MaintainerEmail: sylviawang555 at gmail.com git_url: https://git.bioconductor.org/packages/CaMutQC git_branch: devel git_last_commit: 65ebd3c git_last_commit_date: 2025-10-29 11:28:46 -0500 (Wed, 29 Oct 2025)