Package: CaDrA Version: 1.9.0 Command: /Library/Frameworks/R.framework/Resources/bin/R CMD INSTALL CaDrA StartedAt: 2025-11-23 15:11:52 -0500 (Sun, 23 Nov 2025) EndedAt: 2025-11-23 15:12:03 -0500 (Sun, 23 Nov 2025) EllapsedTime: 11.8 seconds RetCode: 0 Status: OK