Package: CaDrA Version: 1.9.0 Command: /Library/Frameworks/R.framework/Resources/bin/R CMD build --keep-empty-dirs --no-resave-data CaDrA StartedAt: 2025-11-21 15:48:17 -0500 (Fri, 21 Nov 2025) EndedAt: 2025-11-21 15:49:17 -0500 (Fri, 21 Nov 2025) EllapsedTime: 59.7 seconds RetCode: 0 Status: OK PackageFile: CaDrA_1.9.0.tar.gz PackageFileSize: 2.47 MiB