Package: CTDquerier Version: 2.19.0 Command: /home/biocbuild/bbs-3.23-bioc/R/bin/R CMD INSTALL CTDquerier StartedAt: 2025-11-14 15:15:55 -0500 (Fri, 14 Nov 2025) EndedAt: 2025-11-14 15:16:03 -0500 (Fri, 14 Nov 2025) EllapsedTime: 8.1 seconds RetCode: 0 Status: OK