Package: CTDquerier Version: 2.19.0 Command: /Library/Frameworks/R.framework/Resources/bin/R CMD INSTALL CTDquerier StartedAt: 2025-11-14 15:25:58 -0500 (Fri, 14 Nov 2025) EndedAt: 2025-11-14 15:26:01 -0500 (Fri, 14 Nov 2025) EllapsedTime: 3.4 seconds RetCode: 0 Status: OK