Package: CTDquerier Version: 2.19.0 Command: /Library/Frameworks/R.framework/Resources/bin/R CMD build --keep-empty-dirs --no-resave-data CTDquerier StartedAt: 2025-11-13 16:05:39 -0500 (Thu, 13 Nov 2025) EndedAt: 2025-11-13 16:05:41 -0500 (Thu, 13 Nov 2025) EllapsedTime: 2.0 seconds RetCode: 0 Status: OK PackageFile: CTDquerier_2.19.0.tar.gz PackageFileSize: 2.803 MiB