Package: CTDquerier Version: 2.19.0 Command: rm -rf CTDquerier.buildbin-libdir && mkdir CTDquerier.buildbin-libdir && /Users/biocbuild/BBS/utils/build-universal.sh CTDquerier_2.19.0.tar.gz /Library/Frameworks/R.framework/Resources/bin/R CTDquerier.buildbin-libdir StartedAt: 2025-11-14 23:28:58 -0500 (Fri, 14 Nov 2025) EndedAt: 2025-11-14 23:29:03 -0500 (Fri, 14 Nov 2025) EllapsedTime: 5.1 seconds RetCode: 0 Status: OK PackageFile: CTDquerier_2.19.0.tgz PackageFileSize: 2.717 MiB