Package: CSSQ Version: 1.23.0 Command: /home/biocbuild/bbs-3.23-bioc/R/bin/R CMD build --keep-empty-dirs --no-resave-data CSSQ StartedAt: 2025-11-13 17:03:25 -0500 (Thu, 13 Nov 2025) EndedAt: 2025-11-13 17:04:24 -0500 (Thu, 13 Nov 2025) EllapsedTime: 59.0 seconds RetCode: 0 Status: OK PackageFile: CSSQ_1.23.0.tar.gz PackageFileSize: 866.4 KiB