Package: CSSQ Version: 1.23.0 Command: /Library/Frameworks/R.framework/Resources/bin/R CMD INSTALL CSSQ StartedAt: 2025-11-13 15:21:23 -0500 (Thu, 13 Nov 2025) EndedAt: 2025-11-13 15:21:38 -0500 (Thu, 13 Nov 2025) EllapsedTime: 14.5 seconds RetCode: 0 Status: OK