Package: CSSQ Version: 1.23.0 Command: /Library/Frameworks/R.framework/Resources/bin/R CMD check --install=check:CSSQ.install-out.txt --library=/Library/Frameworks/R.framework/Resources/library --no-vignettes --timings CSSQ_1.23.0.tar.gz StartedAt: 2025-11-13 19:21:22 -0500 (Thu, 13 Nov 2025) EndedAt: 2025-11-13 19:23:22 -0500 (Thu, 13 Nov 2025) EllapsedTime: 120.3 seconds RetCode: 0 Status: OK CheckDir: CSSQ.Rcheck Warnings: 0