Package: CSOA Version: 1.1.0 Command: /home/biocbuild/bbs-3.23-bioc/R/bin/R CMD check --install=check:CSOA.install-out.txt --library=/home/biocbuild/bbs-3.23-bioc/R/site-library --timings CSOA_1.1.0.tar.gz StartedAt: 2025-11-11 22:31:55 -0500 (Tue, 11 Nov 2025) EndedAt: 2025-11-11 22:40:20 -0500 (Tue, 11 Nov 2025) EllapsedTime: 505.6 seconds RetCode: 0 Status: OK CheckDir: CSOA.Rcheck Warnings: 0