Package: CSOA Version: 1.1.0 Command: /home/biocbuild/bbs-3.23-bioc/R/bin/R CMD build --keep-empty-dirs --no-resave-data CSOA StartedAt: 2025-11-11 17:06:25 -0500 (Tue, 11 Nov 2025) EndedAt: 2025-11-11 17:08:47 -0500 (Tue, 11 Nov 2025) EllapsedTime: 142.1 seconds RetCode: 0 Status: OK PackageFile: CSOA_1.1.0.tar.gz PackageFileSize: 2.739 MiB