Package: CSOA Version: 1.1.0 Command: /Library/Frameworks/R.framework/Resources/bin/R CMD INSTALL CSOA StartedAt: 2025-11-13 15:11:06 -0500 (Thu, 13 Nov 2025) EndedAt: 2025-11-13 15:11:22 -0500 (Thu, 13 Nov 2025) EllapsedTime: 15.5 seconds RetCode: 0 Status: OK