Package: CSOA Version: 1.1.0 Command: /Library/Frameworks/R.framework/Resources/bin/R CMD build --keep-empty-dirs --no-resave-data CSOA StartedAt: 2025-11-13 16:05:25 -0500 (Thu, 13 Nov 2025) EndedAt: 2025-11-13 16:06:29 -0500 (Thu, 13 Nov 2025) EllapsedTime: 63.7 seconds RetCode: 0 Status: OK PackageFile: CSOA_1.1.0.tar.gz PackageFileSize: 2.783 MiB