Package: CSAR Version: 1.63.0 Command: /home/biocbuild/bbs-3.23-bioc/R/bin/R CMD INSTALL CSAR StartedAt: 2025-11-13 15:58:35 -0500 (Thu, 13 Nov 2025) EndedAt: 2025-11-13 15:58:44 -0500 (Thu, 13 Nov 2025) EllapsedTime: 8.2 seconds RetCode: 0 Status: OK